BEGIN:VCALENDAR
VERSION:2.0
PRODID:-//Independent Max Netterfield for Riverina - ECPv6.15.17//NONSGML v1.0//EN
CALSCALE:GREGORIAN
METHOD:PUBLISH
X-ORIGINAL-URL:https://netterfield4riverina.com.au
X-WR-CALDESC:Events for Independent Max Netterfield for Riverina
REFRESH-INTERVAL;VALUE=DURATION:PT1H
X-Robots-Tag:noindex
X-PUBLISHED-TTL:PT1H
BEGIN:VTIMEZONE
TZID:UTC
BEGIN:STANDARD
TZOFFSETFROM:+0000
TZOFFSETTO:+0000
TZNAME:UTC
DTSTART:20230101T000000
END:STANDARD
END:VTIMEZONE
BEGIN:VEVENT
DTSTART;TZID=UTC:20241126T180000
DTEND;TZID=UTC:20241126T233000
DTSTAMP:20260420T163606
CREATED:20260304T185234Z
LAST-MODIFIED:20260304T185234Z
UID:10000004-1732644000-1732663800@netterfield4riverina.com.au
SUMMARY:Volunteer Canvassing Training
DESCRIPTION:Training session for door-to-door canvassing volunteers
URL:https://netterfield4riverina.com.au/event/volunteer-canvassing-training/
LOCATION:Campaign Headquarters
CATEGORIES:Campaign Events,Community Outreach,Debate Events,Fundraisers,Meet & Greets,Phone Banks,Rallies,Town Hall,Volunteer Events
ORGANIZER;CN="[Candidate Name] for [Office] Campaign":MAILTO:events@candidatename2024.com
END:VEVENT
BEGIN:VEVENT
DTSTART;TZID=UTC:20241112T080000
DTEND;TZID=UTC:20241112T170000
DTSTAMP:20260420T163606
CREATED:20260304T184922Z
LAST-MODIFIED:20260304T184922Z
UID:10000003-1731398400-1731430800@netterfield4riverina.com.au
SUMMARY:Meet & Greet Coffee Hour
DESCRIPTION:Informal morning coffee with the candidate – limited to 25 attendees
URL:https://netterfield4riverina.com.au/event/meet-greet-coffee-hour/
LOCATION:Main Street Coffee House
CATEGORIES:Campaign Events,Community Outreach,Debate Events,Fundraisers,Meet & Greets,Phone Banks,Rallies,Town Hall,Volunteer Events
ORGANIZER;CN="[Candidate Name] for [Office] Campaign":MAILTO:events@candidatename2024.com
END:VEVENT
BEGIN:VEVENT
DTSTART;TZID=UTC:20241105T200000
DTEND;TZID=UTC:20241105T233000
DTSTAMP:20260420T163606
CREATED:20260304T185407Z
LAST-MODIFIED:20260304T185407Z
UID:10000005-1730836800-1730849400@netterfield4riverina.com.au
SUMMARY:Debate Watch Party
DESCRIPTION:Watch the mayoral debate with fellow supporters
URL:https://netterfield4riverina.com.au/event/debate-watch-party/
LOCATION:Local Restaurant & Bar
CATEGORIES:Campaign Events,Community Outreach,Debate Events,Fundraisers,Meet & Greets,Phone Banks,Rallies,Town Hall,Volunteer Events
ORGANIZER;CN="[Candidate Name] for [Office] Campaign":MAILTO:events@candidatename2024.com
END:VEVENT
BEGIN:VEVENT
DTSTART;TZID=UTC:20241102T190000
DTEND;TZID=UTC:20241102T210000
DTSTAMP:20260420T163606
CREATED:20260304T171620Z
LAST-MODIFIED:20260304T171620Z
UID:10000001-1730574000-1730581200@netterfield4riverina.com.au
SUMMARY:Town Hall Meeting with [Candidate Name]
DESCRIPTION:Join [Candidate Name] for an open town hall discussion about local issues including education\, infrastructure\, and economic development. Q&A session to follow. Light refreshments will be served.
URL:https://netterfield4riverina.com.au/event/town-hall-meeting-with-candidate-name/
LOCATION:Riverside Community Center\, 789 Civic Center Drive\, Springfield\, ST 54321
CATEGORIES:Campaign Events,Community Outreach,Town Hall
ORGANIZER;CN="[Candidate Name] for [Office] Campaign":MAILTO:events@candidatename2024.com
END:VEVENT
BEGIN:VEVENT
DTSTART;TZID=UTC:20241015T170000
DTEND;TZID=UTC:20241015T233000
DTSTAMP:20260420T163607
CREATED:20260304T184640Z
LAST-MODIFIED:20260304T185054Z
UID:10000002-1729011600-1729035000@netterfield4riverina.com.au
SUMMARY:Campaign Kickoff Rally
DESCRIPTION:Official campaign launch with special guests\, live music\, and candidate speech
URL:https://netterfield4riverina.com.au/event/campaign-kickoff-rally/
LOCATION:City Park Amphitheater
CATEGORIES:Campaign Events,Community Outreach,Debate Events,Fundraisers,Meet & Greets,Phone Banks,Rallies,Town Hall,Volunteer Events
ORGANIZER;CN="[Candidate Name] for [Office] Campaign":MAILTO:events@candidatename2024.com
END:VEVENT
END:VCALENDAR